BEGIN:VCALENDAR
VERSION:2.0
PRODID:-//Mobilisator//FR
CALSCALE:GREGORIAN
METHOD:PUBLISH
BEGIN:VEVENT
DTSTART;VALUE=DATE:20260322
DTEND;VALUE=DATE:20260323
SUMMARY:Municipales 2026 – 2e tour
DESCRIPTION:Allez voter aux élections municipales 2026 ! #RIENSANSNOUS
URL:https://mobilisator.fr
END:VEVENT
END:VCALENDAR
